BEGIN:VCALENDAR
VERSION:2.0
PRODID:-//Cambria Currents - ECPv6.15.20//NONSGML v1.0//EN
CALSCALE:GREGORIAN
METHOD:PUBLISH
X-ORIGINAL-URL:https://cambriacurrents.com
X-WR-CALDESC:Events for Cambria Currents
REFRESH-INTERVAL;VALUE=DURATION:PT1H
X-Robots-Tag:noindex
X-PUBLISHED-TTL:PT1H
BEGIN:VTIMEZONE
TZID:America/Los_Angeles
BEGIN:DAYLIGHT
TZOFFSETFROM:-0800
TZOFFSETTO:-0700
TZNAME:PDT
DTSTART:20210314T100000
END:DAYLIGHT
BEGIN:STANDARD
TZOFFSETFROM:-0700
TZOFFSETTO:-0800
TZNAME:PST
DTSTART:20211107T090000
END:STANDARD
BEGIN:DAYLIGHT
TZOFFSETFROM:-0800
TZOFFSETTO:-0700
TZNAME:PDT
DTSTART:20220313T100000
END:DAYLIGHT
BEGIN:STANDARD
TZOFFSETFROM:-0700
TZOFFSETTO:-0800
TZNAME:PST
DTSTART:20221106T090000
END:STANDARD
BEGIN:DAYLIGHT
TZOFFSETFROM:-0800
TZOFFSETTO:-0700
TZNAME:PDT
DTSTART:20230312T100000
END:DAYLIGHT
BEGIN:STANDARD
TZOFFSETFROM:-0700
TZOFFSETTO:-0800
TZNAME:PST
DTSTART:20231105T090000
END:STANDARD
END:VTIMEZONE
BEGIN:VEVENT
DTSTART;VALUE=DATE:20220718
DTEND;VALUE=DATE:20220723
DTSTAMP:20260422T105912
CREATED:20220707T221249Z
LAST-MODIFIED:20220707T221249Z
UID:2676-1658102400-1658534399@cambriacurrents.com
SUMMARY:Andy McKee Musicarium
DESCRIPTION:Andy McKee’s Musicarium is a four-day music “camp” for guitar players of all ages\, skill levels\, and preferences taking place in breathtaking Cambria California. This event gives musicians the opportunity to learn from professionals & network with peers by participating in workshops\, break-out sessions\, one on one lessons\, and more! \nAndy McKee will work alongside Yvette Young\, Billy McLaughlin\, Mike Dawes\, Calum Graham\, Trevor Gordon Hall\, and Christine Lenee to curate this immersive artistic experience. \nAccommodations will be provided by Cambria Pines Lodge\, including 3 meals per day. \nFor more information and to reserve your spot please visit andymckeesmusicarium.com/ \n 
URL:https://cambriacurrents.com/event/andy-mckee-musicarium/
LOCATION:Cambria Pines Lodge\, 2905 Burton Dr\, Cambria\, CA\, 93428\, United States
CATEGORIES:Advanced,Art,Beginners,Concerts,Music,Workshop
ATTACH;FMTTYPE=image/jpeg:https://cambriacurrents.com/wp-content/uploads/2022/07/Musicarium-01-scaled.jpg
END:VEVENT
END:VCALENDAR