BEGIN:VCALENDAR
VERSION:2.0
PRODID:-//Cambria Currents - ECPv6.15.20//NONSGML v1.0//EN
CALSCALE:GREGORIAN
METHOD:PUBLISH
X-WR-CALNAME:Cambria Currents
X-ORIGINAL-URL:https://cambriacurrents.com
X-WR-CALDESC:Events for Cambria Currents
REFRESH-INTERVAL;VALUE=DURATION:PT1H
X-Robots-Tag:noindex
X-PUBLISHED-TTL:PT1H
BEGIN:VTIMEZONE
TZID:America/Los_Angeles
BEGIN:DAYLIGHT
TZOFFSETFROM:-0800
TZOFFSETTO:-0700
TZNAME:PDT
DTSTART:20210314T100000
END:DAYLIGHT
BEGIN:STANDARD
TZOFFSETFROM:-0700
TZOFFSETTO:-0800
TZNAME:PST
DTSTART:20211107T090000
END:STANDARD
BEGIN:DAYLIGHT
TZOFFSETFROM:-0800
TZOFFSETTO:-0700
TZNAME:PDT
DTSTART:20220313T100000
END:DAYLIGHT
BEGIN:STANDARD
TZOFFSETFROM:-0700
TZOFFSETTO:-0800
TZNAME:PST
DTSTART:20221106T090000
END:STANDARD
BEGIN:DAYLIGHT
TZOFFSETFROM:-0800
TZOFFSETTO:-0700
TZNAME:PDT
DTSTART:20230312T100000
END:DAYLIGHT
BEGIN:STANDARD
TZOFFSETFROM:-0700
TZOFFSETTO:-0800
TZNAME:PST
DTSTART:20231105T090000
END:STANDARD
END:VTIMEZONE
BEGIN:VEVENT
DTSTART;TZID=America/Los_Angeles:20220826T183000
DTEND;TZID=America/Los_Angeles:20220904T213000
DTSTAMP:20260422T112339
CREATED:20220812T171847Z
LAST-MODIFIED:20220812T173328Z
UID:2722-1661538600-1662327000@cambriacurrents.com
SUMMARY:Pinedorado Days Follies - "CambriOZ"
DESCRIPTION:After a two-year hiatus\, Pinedorado is returning to Cambria this Labor Day Weekend! From September 3 – 5 The Cambria Lions Club will present a series of community events to both have fun\, and raise funds for civic projects. Included in the schedule is the Wizard of CambriaOZ performances! \nThe Lions Club will present a nostalgically delightful performance that can be best described as “The Wizard of Oz\,” with a creative Cambrian twist. Part celebration and part parody of our beloved village\, this will be a show won’t want to miss! \nMultiple showings will be taking place on August 26\, 27\, 28\, and September 2\, 3\, 4 from 6:30 pm – 9:30 pm at the Veterans Memorial Building. Grab your tickets HERE\, or by stopping in at the Cambria Chamber of Commerce or the Friday Farmers Market. 
URL:https://cambriacurrents.com/event/pinedorado-days-follies-cambrioz/
LOCATION:Vet’s Hall\, 1000 Main St.\, Cambria\, CA\, 93428\, United States
CATEGORIES:Cinema,Family,Fundraiser
ATTACH;FMTTYPE=image/jpeg:https://cambriacurrents.com/wp-content/uploads/2022/08/CambriaOZ-01-scaled.jpg
ORGANIZER;CN="Cambria Lions Club":MAILTO:cambrialions@gmail.com
END:VEVENT
BEGIN:VEVENT
DTSTART;TZID=America/Los_Angeles:20220611T120000
DTEND;TZID=America/Los_Angeles:20220611T163000
DTSTAMP:20260422T112339
CREATED:20220608T145332Z
LAST-MODIFIED:20220608T145332Z
UID:2598-1654948800-1654965000@cambriacurrents.com
SUMMARY:A Festival Of The Arts In The Pines by the Sea
DESCRIPTION:On June 11th from 12:00 PM – 4:30 PM The Cambria Center for the Arts will host its Summer Open: A fundraising celebration of creativity and inspiration featuring food\, wine\, art\, film\, comedy\, music & more. \nThis event is a fantastic opportunity to explore the arts. Inspiration will be abundant with inspiration\, from art classes and exhibitions to viewings of locally created films.  There will be wine\, refreshments\, music\, and a raffle. Listen to music. \nIncluded with your ticket: \n\nYour first glass of wine\, featuring wine from Daou Family Estates\nA serving of paella\, with salad and bread\nA raffle ticket\nAccess to programming throughout the center\n\nAdditional wine\, food\, and raffle tickets are available for purchase on-site. \nThis event will serve as the Center’s grand reopening and major fundraiser for 2022.
URL:https://cambriacurrents.com/event/a-festival-of-the-arts-in-the-pines-by-the-sea/
LOCATION:Cambria Center for The Arts\, 1350 Main St\, Cambria\, CA\, 93428\, United States
CATEGORIES:Art,Cinema,Dining,Family,Film,Fundraiser,Music,Wine Tasting
ATTACH;FMTTYPE=image/jpeg:https://cambriacurrents.com/wp-content/uploads/2022/06/CCA-01-scaled.jpg
ORGANIZER;CN="Cambria Center for The Arts":MAILTO:info@cambriaarts.org
END:VEVENT
BEGIN:VEVENT
DTSTART;TZID=America/Los_Angeles:20220428T183000
DTEND;TZID=America/Los_Angeles:20220428T193000
DTSTAMP:20260422T112339
CREATED:20220423T055932Z
LAST-MODIFIED:20220423T055932Z
UID:2530-1651170600-1651174200@cambriacurrents.com
SUMMARY:Julia Blue Ukraine Benefit
DESCRIPTION:This Thursday April 28 at 6:30 pm Cambria Center for The Arts will run a special one-night-only showing of Julia Blue\, a film that follows the journey of a young student activist in Ukraine who develops an unlikely bond with a wounded soldier. \n \nThis showing will serve as an opportunity for the Cambria community to learn more about the country of Ukraine\, and support the Ukrainian people. \nThe event will also feature a pre-recorded interview with the lead actor who is still in Kyiv. After the film\, Cambria Center for the Arts will host a live Zoom call with the film’s director. \nThe showing itself is free with a reservation\, donations are requested. All donations made to attend the event\, including the purchase of wine or snacks at the reception\, will go directly to Nova Ukraine. Those unable to attend are encouraged to make an online donation if desired. \nTo reserve seats and make donations to the benefit’s cause please do so through the Julia Blue Benefit ticket page.
URL:https://cambriacurrents.com/event/julia-blue-ukraine-benefit/
LOCATION:Cambria Center for The Arts\, 1350 Main St\, Cambria\, CA\, 93428\, United States
CATEGORIES:Art,Cinema,Fundraiser
ATTACH;FMTTYPE=image/jpeg:https://cambriacurrents.com/wp-content/uploads/2022/04/CambriaFilmFest-01-scaled.jpg
ORGANIZER;CN="Cambria Center for The Arts":MAILTO:info@cambriaarts.org
END:VEVENT
BEGIN:VEVENT
DTSTART;TZID=America/Los_Angeles:20220203T130000
DTEND;TZID=America/Los_Angeles:20220206T190000
DTSTAMP:20260422T112339
CREATED:20220108T035923Z
LAST-MODIFIED:20220108T045751Z
UID:2121-1643893200-1644174000@cambriacurrents.com
SUMMARY:2022 Cambria Film Festival
DESCRIPTION:Cambria Center for The Arts presents the 2022 Cambria Film Festival! \nThe festival will showcase both classic & new romance and comedy films. Independent films from around the world are carefully selected to delight and entertain. \nIn addition to film viewings\, there will be a Q&A Panel Session and Awards Night. \nThe festival will be virtually streamed. \nFor more information and to purchase online passes please visit the Cambria Center for The Arts website ~  cambriaarts.org
URL:https://cambriacurrents.com/event/2022-cambria-film-festival/
LOCATION:Online
CATEGORIES:Art,Cinema,Film
ATTACH;FMTTYPE=image/jpeg:https://cambriacurrents.com/wp-content/uploads/2022/01/CambriaFilmFest-01-scaled.jpg
ORGANIZER;CN="Cambria Center for The Arts":MAILTO:info@cambriaarts.org
END:VEVENT
END:VCALENDAR