BEGIN:VCALENDAR
VERSION:2.0
PRODID:-//Cambria Currents - ECPv6.15.20//NONSGML v1.0//EN
CALSCALE:GREGORIAN
METHOD:PUBLISH
X-ORIGINAL-URL:https://cambriacurrents.com
X-WR-CALDESC:Events for Cambria Currents
REFRESH-INTERVAL;VALUE=DURATION:PT1H
X-Robots-Tag:noindex
X-PUBLISHED-TTL:PT1H
BEGIN:VTIMEZONE
TZID:America/Los_Angeles
BEGIN:DAYLIGHT
TZOFFSETFROM:-0800
TZOFFSETTO:-0700
TZNAME:PDT
DTSTART:20210314T100000
END:DAYLIGHT
BEGIN:STANDARD
TZOFFSETFROM:-0700
TZOFFSETTO:-0800
TZNAME:PST
DTSTART:20211107T090000
END:STANDARD
BEGIN:DAYLIGHT
TZOFFSETFROM:-0800
TZOFFSETTO:-0700
TZNAME:PDT
DTSTART:20220313T100000
END:DAYLIGHT
BEGIN:STANDARD
TZOFFSETFROM:-0700
TZOFFSETTO:-0800
TZNAME:PST
DTSTART:20221106T090000
END:STANDARD
BEGIN:DAYLIGHT
TZOFFSETFROM:-0800
TZOFFSETTO:-0700
TZNAME:PDT
DTSTART:20230312T100000
END:DAYLIGHT
BEGIN:STANDARD
TZOFFSETFROM:-0700
TZOFFSETTO:-0800
TZNAME:PST
DTSTART:20231105T090000
END:STANDARD
BEGIN:DAYLIGHT
TZOFFSETFROM:-0800
TZOFFSETTO:-0700
TZNAME:PDT
DTSTART:20240310T100000
END:DAYLIGHT
BEGIN:STANDARD
TZOFFSETFROM:-0700
TZOFFSETTO:-0800
TZNAME:PST
DTSTART:20241103T090000
END:STANDARD
END:VTIMEZONE
BEGIN:VEVENT
DTSTART;TZID=America/Los_Angeles:20231212T170000
DTEND;TZID=America/Los_Angeles:20231212T200000
DTSTAMP:20260422T075506
CREATED:20231209T045014Z
LAST-MODIFIED:20231209T180540Z
UID:2962-1702400400-1702411200@cambriacurrents.com
SUMMARY:Indigefest 2023
DESCRIPTION:Indigenous Festival\n \nIndigefest 2023 is here! Join us on December 12 at 5pm to immerse yourself in indigenous culture\, take part in a deep healing Mayan Cacao Ceremony guided by Jose Ajpu Munoz (a Mayan Time Keeper)\, participate in a charity benefit silent auction\, and share a potluck meal with the community.  \nYou all have the opportunity to engage with elders from all walks of life and listen to them speak\, disclosing subjects relevant to the past\, present\, and future of humanity.  \nCapacity is limited\, so be sure to RSVP soon & receive the event location by contacting Darcy Cleome at darcy@darcycleome.com. \nAdmission donations ($20 suggested)\, and proceeds from the silent auction will benefit Giving To Change\, a California non-profit that develops\, initiates and amplifies earth-based leadership\, systems of reciprocity\, wellness\, aligned action\, and creative\, ecologically sound technologies. \nPlease bring any snacks\, appetizers\, or drinks you would like to share (no alcohol).  \nBe sure to wear layers to stay warm as some of our activities will be outdoors. We will begin with a Mayan Fire Ceremony if weather & venue allow. \n The event will also be live-streamed on Cambria Currents Facebook.  \n~ \nIndigifest is hosted by Christina Tobin of Cambria Currents\, & Darcy Cleome Portlock in Cambria\, CA at Hummingbird Manifestation Station #11. \n  \nEvent Schedule\nAct 1\, 5:00PM:  \nMayan Cacao Ceremony for the people by Jose Ajpu Munoz *a Mayan Time Keeper \nJoin us in sacred Space across the land and around the world to enjoy and remember how to properly cook\, infuse and ceremonially serve and receive this ancient natural wonderful medicine Mother Earth provides for all of us. \nCacao is one of the most powerful\, gentle facilitators\, teachers and guides on the planet – and it is delicious too!  Our ancestors Ancient Mayans Incas  and Aztecs used Chocolate for Spiritual and Ceremonial purposes. In its purest form (unlike much of the chocolate available in the mainstream)\, it is a powerful assistant for ‘inner work’\, creative guidance and so much more. \n\nAct 2\, 6:00PM: \nMeet and listen to the elders. \n  \nAct 3\, 7:00PM:   \nEngage with the elders\, ask questions\, and receive uncensored answers.  \n 
URL:https://cambriacurrents.com/event/indigefest-2023/
LOCATION:RSVP by emailing darcy@darcycleome.com to recieve location
CATEGORIES:Dining,Education,Environmental,Fundraiser,Workshop
ATTACH;FMTTYPE=image/jpeg:https://cambriacurrents.com/wp-content/uploads/2023/12/403611482_322530980548928_5235651878945404454_n.jpg
END:VEVENT
BEGIN:VEVENT
DTSTART;TZID=America/Los_Angeles:20221020T180000
DTEND;TZID=America/Los_Angeles:20221020T193000
DTSTAMP:20260422T075506
CREATED:20221019T211409Z
LAST-MODIFIED:20221020T001023Z
UID:2817-1666288800-1666294200@cambriacurrents.com
SUMMARY:CCSD Virtual Candidates Forum
DESCRIPTION:This Thursday\, Oct 20th from 6:00 pm – 7:30 pm The League of Women Voters of San Luis Obispo County will conduct a virtual Candidates Forum. This online event will give Cambirans the opportunity to get to know their candidates so that they may cast more informed\, confident votes in November. The questions answered by candidates in the forum will be directly from community members\, keeping the discussion relevant and informative. \nPlease tune in! Use the information below to join the Zoom webinar: \nTopic: Cambria CSD FORUM\nTime: Oct 20\, 2022\, 06:00 PM US/Pacific \nJoin Zoom Meeting\nhttps://us06web.zoom.us/j/85965149615?pwd=bHpWcFI3NlFjKzFlY2pjUmZSVEIzdz09 \nMeeting ID: 859 6514 9615\nPasscode: 854104\nOne tap mobile\n+16699006833\,\,85965149615#\,\,\,\,*854104# US (San Jose)\n+16694449171\,\,85965149615#\,\,\,\,*854104# US
URL:https://cambriacurrents.com/event/ccsd-virtual-candidates-forum/
LOCATION:Online
CATEGORIES:Education,Online
ATTACH;FMTTYPE=image/jpeg:https://cambriacurrents.com/wp-content/uploads/2022/10/CCSDCandidatesForum-01-scaled.jpg
ORGANIZER;CN="League of Women Voters of San Luis Obispo County":MAILTO:info@lwvslo.org
END:VEVENT
BEGIN:VEVENT
DTSTART;TZID=America/Los_Angeles:20221001T183000
DTEND;TZID=America/Los_Angeles:20221001T210000
DTSTAMP:20260422T075506
CREATED:20220911T151859Z
LAST-MODIFIED:20220911T152002Z
UID:2794-1664649000-1664658000@cambriacurrents.com
SUMMARY:International Observe the Moon Night
DESCRIPTION:This October 1st from 6:30 pm – 9:00 pm Beautify Cambria will host International Observe the Moon Night! \nThe space-themed event will be an opportunity to join a global movement centered around observing the wonders of our night sky and learning about lunar science. Beautify Cambria will provide refreshments\, put on a silent auction\, and allow access to powerful telescopes for moon & stargazing. \nDavid Breda\, the lead engineer on the James Webb Telescope at NASA’s JPL\, will speak at the event. He will give a presentation about the project and display some of Webb’s most spectacular photographs on a big screen. He’ll also share about the upcoming Artemis mission to the Moon! \nProceeds will support Beautify Cambria’s Dark Skies Initiative\, which is seeking to reduce light pollution and gain Dark Sky designation for Cambria.
URL:https://cambriacurrents.com/event/international-observe-the-moon-night/
LOCATION:Santa Rosa Church\, 1174 Main St\, Cambria\, CA\, 93428\, United States
CATEGORIES:Education,Fundraiser,Nature,Outdoor
ATTACH;FMTTYPE=image/jpeg:https://cambriacurrents.com/wp-content/uploads/2022/09/MOONNIGHT-01-scaled.jpg
ORGANIZER;CN="Beautify Cambria":MAILTO:info@beautifycambria.org
END:VEVENT
END:VCALENDAR