BEGIN:VCALENDAR
VERSION:2.0
PRODID:-//Cambria Currents - ECPv6.15.20//NONSGML v1.0//EN
CALSCALE:GREGORIAN
METHOD:PUBLISH
X-ORIGINAL-URL:https://cambriacurrents.com
X-WR-CALDESC:Events for Cambria Currents
REFRESH-INTERVAL;VALUE=DURATION:PT1H
X-Robots-Tag:noindex
X-PUBLISHED-TTL:PT1H
BEGIN:VTIMEZONE
TZID:America/Los_Angeles
BEGIN:DAYLIGHT
TZOFFSETFROM:-0800
TZOFFSETTO:-0700
TZNAME:PDT
DTSTART:20210314T100000
END:DAYLIGHT
BEGIN:STANDARD
TZOFFSETFROM:-0700
TZOFFSETTO:-0800
TZNAME:PST
DTSTART:20211107T090000
END:STANDARD
BEGIN:DAYLIGHT
TZOFFSETFROM:-0800
TZOFFSETTO:-0700
TZNAME:PDT
DTSTART:20220313T100000
END:DAYLIGHT
BEGIN:STANDARD
TZOFFSETFROM:-0700
TZOFFSETTO:-0800
TZNAME:PST
DTSTART:20221106T090000
END:STANDARD
BEGIN:DAYLIGHT
TZOFFSETFROM:-0800
TZOFFSETTO:-0700
TZNAME:PDT
DTSTART:20230312T100000
END:DAYLIGHT
BEGIN:STANDARD
TZOFFSETFROM:-0700
TZOFFSETTO:-0800
TZNAME:PST
DTSTART:20231105T090000
END:STANDARD
BEGIN:DAYLIGHT
TZOFFSETFROM:-0800
TZOFFSETTO:-0700
TZNAME:PDT
DTSTART:20240310T100000
END:DAYLIGHT
BEGIN:STANDARD
TZOFFSETFROM:-0700
TZOFFSETTO:-0800
TZNAME:PST
DTSTART:20241103T090000
END:STANDARD
END:VTIMEZONE
BEGIN:VTIMEZONE
TZID:UTC
BEGIN:STANDARD
TZOFFSETFROM:+0000
TZOFFSETTO:+0000
TZNAME:UTC
DTSTART:20210101T000000
END:STANDARD
END:VTIMEZONE
BEGIN:VEVENT
DTSTART;TZID=America/Los_Angeles:20230521T160000
DTEND;TZID=America/Los_Angeles:20230521T180000
DTSTAMP:20260422T094752
CREATED:20230417T221356Z
LAST-MODIFIED:20230429T175658Z
UID:2933-1684684800-1684692000@cambriacurrents.com
SUMMARY:Cambria Community Mediterranean Potluck
DESCRIPTION:Join friends & neighbors for a Mediterranean-themed potluck this May 21\, 4 – 6  pm at 1173 Pinewood Drive! \nThis event will be focused on Mediterranean culture & cuisine\, so we encourage everyone to bring their favorite Mediterranean dish or drink. We’ll also enjoy exotic music with an Armenian Dance. \nPlease help us spread the word so nobody misses out by sharing this page. \nWe’ll see you soon ~ Kenadz! 🥂 (“Cheers!” in Armenian) \nWe send out our gratitude to Julia & Cat for hosting 💚 
URL:https://cambriacurrents.com/event/cambria-community-mediterranean-potluck/
LOCATION:Julia’s House\, 1173 Pinewood Drive\, Cambria\, CA\, 93428\, United States
CATEGORIES:Dancing,Dining,Family,Music,Networking
ATTACH;FMTTYPE=image/jpeg:https://cambriacurrents.com/wp-content/uploads/2023/04/CCMayPotluck-scaled.jpg
END:VEVENT
BEGIN:VEVENT
DTSTART;TZID=America/Los_Angeles:20230326T180000
DTEND;TZID=America/Los_Angeles:20230326T200000
DTSTAMP:20260422T094752
CREATED:20230315T144306Z
LAST-MODIFIED:20230315T150421Z
UID:2915-1679853600-1679860800@cambriacurrents.com
SUMMARY:Cambria Community Potluck at Bali Gems
DESCRIPTION:You won’t want to miss Cambria Current’s first Community Potluck of 2023! Join friends & neighbors this March 26 from 6-8 pm at Bali Gems to enjoy this beautiful Cambria tradition. The event will kick off with a potluck-style meal\, followed by live music featuring award-winning Central Coast Americana artist Noach Tangeras. Then\, we’ll carry on to bond-building activities and locally focused discussions. If you’ve been wanting to forge a deeper connection with your community\, this event is a wonderful opportunity! \nThank you to our host Christina Tobin (Owner of Bali Gems) for so graciously welcoming the community. \n  \nPlease bring your favorite dish or bottle of wine to share\, plates & silverware. No need to bring chairs this time around.  \nIf you have any projects in the works\, own a business in town\, or just have something you’d like to share please bring any relevant business cards\, brochures etc. with you. We’ll have a space ready to display them. See you there!
URL:https://cambriacurrents.com/event/cambria-community-potluck-at-bali-gems/
LOCATION:Bali Gems\, 733 Main Street\, Cambria\, CA\, 93428\, United States
CATEGORIES:Concerts,Dining,Family,Music,Networking
ATTACH;FMTTYPE=image/png:https://cambriacurrents.com/wp-content/uploads/2023/03/CambriaPotluck@BG-01.png
ORGANIZER;CN="Cambria Currents":MAILTO:info@cambriacurrents.com
END:VEVENT
BEGIN:VEVENT
DTSTART;TZID=America/Los_Angeles:20221125T170000
DTEND;TZID=America/Los_Angeles:20221223T203000
DTSTAMP:20260422T094752
CREATED:20221202T023652Z
LAST-MODIFIED:20221202T023735Z
UID:2886-1669395600-1671827400@cambriacurrents.com
SUMMARY:Cambria Christmas Market
DESCRIPTION:The annual Cambria Christmas Market is back & bigger than ever for its 11th year! Join in the holiday cheer this November 25 – December 23 from 5:00 pm – 8:30 pm daily. \nDuring this event\, The Cambria Pines Lodge & Cambria Nursery & Florist are transformed into a traditional European open-air market\, decorated with a dazzling 2 million twinkling Christmas lights! Artisan vendors will be set up along the 1.25-mile stretch of festivities offering unique gifts\, delicious food & drink. Live music will take place daily in the Amphitheater & Biergarten. In addition\, there will be train rides\, bonfires\, visits from Santa and so much more! \nPlease visit cambriachristmasmarket.com for more information\, and to purchase tickets.
URL:https://cambriacurrents.com/event/cambria-christmas-market-2/
LOCATION:Cambria Pines Lodge\, 2905 Burton Dr\, Cambria\, CA\, 93428\, United States
CATEGORIES:Art,Children,Concerts,Dining,Family,Market,Music,Outdoor
ATTACH;FMTTYPE=image/jpeg:https://cambriacurrents.com/wp-content/uploads/2022/12/ChristmasMarket-01-scaled.jpg
ORGANIZER;CN="Cambria Christmas Market":MAILTO:Info@CambriaChristmasMarket.com
END:VEVENT
BEGIN:VEVENT
DTSTART;TZID=America/Los_Angeles:20221113T140000
DTEND;TZID=America/Los_Angeles:20221113T170000
DTSTAMP:20260422T094752
CREATED:20221022T213956Z
LAST-MODIFIED:20221105T174112Z
UID:2838-1668348000-1668358800@cambriacurrents.com
SUMMARY:Cambria Community Potluck
DESCRIPTION:Cambria Currents invites ALL to gather together this Sunday\, November 13th from 2 pm – 5 pm for the Cambria Community Potluck at The Bridge Street Inn.  \nJoin the fall fun to share good food\, enjoy live Central Coast music\, create happy memories\, and meet new friends. Whether you have a community improvement idea to discuss\, a song you would like to play for your neighbors or you are just there for the delicious food – we welcome you with open arms! \nBay Love will be taking the stage from 2 pm – 4 pm. This talented multi-instrumental duo will perform a special Joan Baez tribute\, echoing her messages of non-violence\, world peace\, and the promotion of human rights activism. Known for both their covers & originals which span a variety of genres\, their goal is to “spread the love” one song at a time. \nBring your favorite dish or a bottle of wine\, an empty stomach\, and an open mind. Please remember dishes\, silverware\, and lawn chairs as well. \nWe look forward to seeing you there! Be sure to invite your friends and neighbors. \n🍂 RSVP HERE 🍂 \nA special thank you to the amazing Aimee Wyatt for hosting\, and Linn’s Restaurant for sponsoring this event!
URL:https://cambriacurrents.com/event/cambria-community-potluck/
LOCATION:Bridge Street Inn\, 4314 Bridge St\, Cambria\, CA\, 93428\, United States
CATEGORIES:Dining,Family,Networking
ATTACH;FMTTYPE=image/jpeg:https://cambriacurrents.com/wp-content/uploads/2022/10/FeaturedPhotoTemplateai-01-Recovered-01.jpg
END:VEVENT
BEGIN:VEVENT
DTSTART;TZID=America/Los_Angeles:20221031T160000
DTEND;TZID=America/Los_Angeles:20221031T180000
DTSTAMP:20260422T094752
CREATED:20221027T151824Z
LAST-MODIFIED:20221027T151824Z
UID:2848-1667232000-1667239200@cambriacurrents.com
SUMMARY:3rd Annual Trunk or Treat
DESCRIPTION:Who’s ready for some family-friendly Halloween fun in Cambria?  \nGet dressed up\, gather your family & friends and come on down to the Pinedorado Grounds this Monday\, October 31st for the Third Annual Trunk or Treat event! \nIf you would like to donate candy\, there’s still time – sweet treats can be dropped off at Gigi’s Thrift Store. \nHappy Halloween from Cambria Currents!  \n 
URL:https://cambriacurrents.com/event/3rd-annual-trunk-or-treat/
LOCATION:Pinedorado Grounds\, 940 Main Street\, Cambria\, CA\, 93428\, United States
CATEGORIES:Children,Family
ATTACH;FMTTYPE=image/jpeg:https://cambriacurrents.com/wp-content/uploads/2022/10/TrunkortreatWEB-01-scaled.jpg
END:VEVENT
BEGIN:VEVENT
DTSTART;TZID=America/Los_Angeles:20220904T100000
DTEND;TZID=America/Los_Angeles:20220904T160000
DTSTAMP:20260422T094752
CREATED:20220812T195233Z
LAST-MODIFIED:20220829T184954Z
UID:2726-1662285600-1662307200@cambriacurrents.com
SUMMARY:14th Annual Pinedorado Car Show
DESCRIPTION:After a two-year hiatus\, Pinedorado is returning to Cambria this Labor Day Weekend! From September 3 – 5 The Cambria Lions Club will present a series of community events to have fun\, and raise funds for civic projects. Included on the schedule is the Pinedorado Car Show! \nThe 14th Annual Pinedorado Car Show is a full day of family fun this upcoming Sunday\, September 4th. Activities will include food\, games\, raffles\, music\, and of course enjoying all the awesome classic cars & bikes! \nAll proceeds will benefit Cambria Lions Charities. \n 
URL:https://cambriacurrents.com/event/14th-annual-pinedorado-car-show/
LOCATION:Pinedorado Grounds\, 940 Main Street\, Cambria\, CA\, 93428\, United States
CATEGORIES:Car Show,Family,Fundraiser,Outdoor
ATTACH;FMTTYPE=image/jpeg:https://cambriacurrents.com/wp-content/uploads/2022/08/Pinedorado-Car-Show-01-scaled.jpg
ORGANIZER;CN="Cambria Lions Club":MAILTO:cambrialions@gmail.com
END:VEVENT
BEGIN:VEVENT
DTSTART;TZID=America/Los_Angeles:20220903T070000
DTEND;TZID=America/Los_Angeles:20220903T070000
DTSTAMP:20260422T094752
CREATED:20220812T164946Z
LAST-MODIFIED:20220812T164946Z
UID:2714-1662188400-1662188400@cambriacurrents.com
SUMMARY:29th Pinedorado 5k Fun Run
DESCRIPTION:After a two-year hiatus\, Pinedorado is returning to Cambria this Labor Day Weekend! From September 3 – 5 The Cambria Lions Club will present a series of community events to have fun\, and raise funds for civic projects. Included in the schedule is the 29th Annual Pinedorado 5k Fun Run… \nGather at the Coast Union High School at 7:00 am this September 3rd to participate in the run to benefit the American Field Service Program (foreign exchange student program).  This event will kick off the exciting weekend of festivities! \nThe American Field Service Program empowers people to become globally engaged citizens by delivering meaningful intercultural experiences that provide the knowledge and skills needed to help create a more just and peaceful world. \n \n 
URL:https://cambriacurrents.com/event/29th-pinedorado-5k-fun-run/
LOCATION:Coast Union High School\, 2950 Santa Rosa Creek Rd\, Cambria\, CA\, 93428\, United States
CATEGORIES:Family,Fundraiser,Outdoor
ATTACH;FMTTYPE=image/jpeg:https://cambriacurrents.com/wp-content/uploads/2022/08/5k-RUn-01-scaled.jpg
ORGANIZER;CN="Cambria Lions Club":MAILTO:cambrialions@gmail.com
END:VEVENT
BEGIN:VEVENT
DTSTART;TZID=America/Los_Angeles:20220826T183000
DTEND;TZID=America/Los_Angeles:20220904T213000
DTSTAMP:20260422T094752
CREATED:20220812T171847Z
LAST-MODIFIED:20220812T173328Z
UID:2722-1661538600-1662327000@cambriacurrents.com
SUMMARY:Pinedorado Days Follies - "CambriOZ"
DESCRIPTION:After a two-year hiatus\, Pinedorado is returning to Cambria this Labor Day Weekend! From September 3 – 5 The Cambria Lions Club will present a series of community events to both have fun\, and raise funds for civic projects. Included in the schedule is the Wizard of CambriaOZ performances! \nThe Lions Club will present a nostalgically delightful performance that can be best described as “The Wizard of Oz\,” with a creative Cambrian twist. Part celebration and part parody of our beloved village\, this will be a show won’t want to miss! \nMultiple showings will be taking place on August 26\, 27\, 28\, and September 2\, 3\, 4 from 6:30 pm – 9:30 pm at the Veterans Memorial Building. Grab your tickets HERE\, or by stopping in at the Cambria Chamber of Commerce or the Friday Farmers Market. 
URL:https://cambriacurrents.com/event/pinedorado-days-follies-cambrioz/
LOCATION:Vet’s Hall\, 1000 Main St.\, Cambria\, CA\, 93428\, United States
CATEGORIES:Cinema,Family,Fundraiser
ATTACH;FMTTYPE=image/jpeg:https://cambriacurrents.com/wp-content/uploads/2022/08/CambriaOZ-01-scaled.jpg
ORGANIZER;CN="Cambria Lions Club":MAILTO:cambrialions@gmail.com
END:VEVENT
BEGIN:VEVENT
DTSTART;TZID=America/Los_Angeles:20220820T140000
DTEND;TZID=America/Los_Angeles:20220820T150000
DTSTAMP:20260422T094752
CREATED:20220819T025632Z
LAST-MODIFIED:20220819T025733Z
UID:2739-1661004000-1661007600@cambriacurrents.com
SUMMARY:Pacific Wildlife Care
DESCRIPTION:This Saturday\, August 20th Pacific Wildlife Care volunteers will be bringing some of their favorite animals to the Cambria Library! Meet some cool creatures\, hear their stores & learn about the amazing work Pacific Wildlife Care does to support the Central Coast animals that make this place so special.
URL:https://cambriacurrents.com/event/pacific-wildlife-care/
LOCATION:Cambria Public Library\, 1043 Main Street\, Cambria\, CA\, 93428\, United States
CATEGORIES:Environmental,Family,Nature
ATTACH;FMTTYPE=image/jpeg:https://cambriacurrents.com/wp-content/uploads/2022/08/PW-01-scaled.jpg
END:VEVENT
BEGIN:VEVENT
DTSTART;TZID=America/Los_Angeles:20220812T183000
DTEND;TZID=America/Los_Angeles:20220812T213000
DTSTAMP:20260422T094752
CREATED:20220801T180821Z
LAST-MODIFIED:20220801T200719Z
UID:2682-1660329000-1660339800@cambriacurrents.com
SUMMARY:Under The Moon Concert - Moonshiner Collective
DESCRIPTION:This August 12 from 6:30 – 9:30 pm Oceanpoint Ranch will host the Under The Moon Concert on the Sundance Lawn featuring San Luis Obispo-based band Moonshiner Collective. \nFood & Drink will be available for purchase. Each ticket includes a “pod” space for up to 4 people. \n~ \nMoonshiner Collective is the musical project of multi-instrumentalist singer-songwriter Dan Curcio\, 8-string guitarist Gary Wooten\, and drummer/percussionist Ryan House that draws from a diverse range of rock\, blues\, funk\, and Americana influences. \nMoonshiner Collective songs center around family\, love\, optimism\, nature\, and the power of community with Curcio’s distinctively warm and soulful voice and introspective lyrics as the connecting thread. The music’s unifying positivity bridges gaps in generations and genres with a sound and message that combines good time music with a soulful and passionate depth. \n 
URL:https://cambriacurrents.com/event/under-the-moon-concert/
LOCATION:Oceanpoint Ranch\, 7200 Moonstone Beach Dr\, Cambria\, CA\, 93428
CATEGORIES:Concerts,Dancing,Dining,Family,Music,Nature,Outdoor,Wine Tasting
ATTACH;FMTTYPE=image/jpeg:https://cambriacurrents.com/wp-content/uploads/2022/08/Under-The-Moon-01-scaled.jpg
END:VEVENT
BEGIN:VEVENT
DTSTART;TZID=America/Los_Angeles:20220704T110000
DTEND;TZID=America/Los_Angeles:20220704T213500
DTSTAMP:20260422T094752
CREATED:20220622T153908Z
LAST-MODIFIED:20220703T221518Z
UID:2638-1656932400-1656970500@cambriacurrents.com
SUMMARY:Independence Day at Shamel Park
DESCRIPTION:Fireworks are back for Cambria! This July 4th Shamel Park will host the annual Independence Day Celebration. \nThe day will be tons of fun with plenty of family-friendly activities\, live music\, contests\, raffles\, amazing food\, and OF COURSE fireworks! \nA trolley will run along Main Street and Moonstone Beach Drive to Shamel Park all day from 10 am – 6 pm to provide transportation for those coming and going from the celebration. Admission is FREE!
URL:https://cambriacurrents.com/event/independence-day-at-shamel-park/
LOCATION:Shamel Park\, 5455 Windsor Blvd\, Cambria\, CA\, 93428
CATEGORIES:Concerts,Family,Music,Nature,Outdoor
ATTACH;FMTTYPE=image/jpeg:https://cambriacurrents.com/wp-content/uploads/2022/06/4th-01-scaled.jpg
ORGANIZER;CN="Cambria Chamber of Commerce":MAILTO:info@cambriachamber.org
END:VEVENT
BEGIN:VEVENT
DTSTART;VALUE=DATE:20220617
DTEND;VALUE=DATE:20220620
DTSTAMP:20260422T094752
CREATED:20220614T193233Z
LAST-MODIFIED:20220614T193233Z
UID:2612-1655424000-1655683199@cambriacurrents.com
SUMMARY:Live Oak Music Festival
DESCRIPTION:This June 17 – 19 Live Oak Music Festival will be taking place in San Luis Obispo. \n\n\nLive Oak is a 3-day festival that takes place every June. This weekend event is packed with a lively mix of eclectic music & family activities\, benefiting KCBX Public Radio. \n\n\n\n\n\n\n\n\n\n\n\n\n\n\n\n\n\n\n\n\n\n\n\nGrab tickets here to enjoy a weekend of roots music like blues\, reggae\, bluegrass\, jazz\, singer-songwriters\, world music\, and much more — all in a family-friendly setting\, with camping\, crafts\, jam sessions\, and other fun activities.
URL:https://cambriacurrents.com/event/live-oak-music-festival/
LOCATION:El Chorro Regional Park\, State Hwy 1 @ Dairy Creek\, San Luis Obispo\, CA\, 93408\, United States
CATEGORIES:Concerts,Family,Fundraiser,Music,Outdoor
ATTACH;FMTTYPE=image/jpeg:https://cambriacurrents.com/wp-content/uploads/2022/06/LiveOakFest-01-scaled.jpg
ORGANIZER;CN="Live Oak Music Festival":MAILTO:info@liveoakfest.org
END:VEVENT
BEGIN:VEVENT
DTSTART;TZID=America/Los_Angeles:20220611T120000
DTEND;TZID=America/Los_Angeles:20220611T163000
DTSTAMP:20260422T094752
CREATED:20220608T145332Z
LAST-MODIFIED:20220608T145332Z
UID:2598-1654948800-1654965000@cambriacurrents.com
SUMMARY:A Festival Of The Arts In The Pines by the Sea
DESCRIPTION:On June 11th from 12:00 PM – 4:30 PM The Cambria Center for the Arts will host its Summer Open: A fundraising celebration of creativity and inspiration featuring food\, wine\, art\, film\, comedy\, music & more. \nThis event is a fantastic opportunity to explore the arts. Inspiration will be abundant with inspiration\, from art classes and exhibitions to viewings of locally created films.  There will be wine\, refreshments\, music\, and a raffle. Listen to music. \nIncluded with your ticket: \n\nYour first glass of wine\, featuring wine from Daou Family Estates\nA serving of paella\, with salad and bread\nA raffle ticket\nAccess to programming throughout the center\n\nAdditional wine\, food\, and raffle tickets are available for purchase on-site. \nThis event will serve as the Center’s grand reopening and major fundraiser for 2022.
URL:https://cambriacurrents.com/event/a-festival-of-the-arts-in-the-pines-by-the-sea/
LOCATION:Cambria Center for The Arts\, 1350 Main St\, Cambria\, CA\, 93428\, United States
CATEGORIES:Art,Cinema,Dining,Family,Film,Fundraiser,Music,Wine Tasting
ATTACH;FMTTYPE=image/jpeg:https://cambriacurrents.com/wp-content/uploads/2022/06/CCA-01-scaled.jpg
ORGANIZER;CN="Cambria Center for The Arts":MAILTO:info@cambriaarts.org
END:VEVENT
BEGIN:VEVENT
DTSTART;TZID=America/Los_Angeles:20220521T140000
DTEND;TZID=America/Los_Angeles:20220521T180000
DTSTAMP:20260422T094752
CREATED:20220413T042953Z
LAST-MODIFIED:20220413T043429Z
UID:2519-1653141600-1653156000@cambriacurrents.com
SUMMARY:Reverse Draw Fundraiser
DESCRIPTION:This Saturday\, May 21st from 2 pm – 6 pm the Coast Union Bronco Boosters Club presents the 42nd annual Reverse Draw Fundraiser. All proceeds go towards supporting Coast Union’s youth programs including drama club\, poetry competitions\, sports programs\, after-school events\, college scholarships & more. Ticket purchase includes two meals tastefully prepared by Linn’s Restaurant. Wine & beer will be available to taste & win. The grand prize will be $5\,000.  For more information email Juli Amodei at 12toes@sti.net or Tala Romero at talaromero37@yahoo.com
URL:https://cambriacurrents.com/event/reverse-draw-fundraiser/
LOCATION:Coast Union High School\, 2950 Santa Rosa Creek Rd\, Cambria\, CA\, 93428\, United States
CATEGORIES:Dining,Family,Fundraiser
ATTACH;FMTTYPE=image/jpeg:https://cambriacurrents.com/wp-content/uploads/2022/04/ReverseDraw-01-scaled.jpg
END:VEVENT
BEGIN:VEVENT
DTSTART;TZID=America/Los_Angeles:20220508T120000
DTEND;TZID=America/Los_Angeles:20220508T143000
DTSTAMP:20260422T094752
CREATED:20220425T060541Z
LAST-MODIFIED:20220425T060541Z
UID:2546-1652011200-1652020200@cambriacurrents.com
SUMMARY:Pines Lodge Mother's Day Brunch
DESCRIPTION:This May 8\, at 12:00 pm Cambria Pines Lodge will host a special Mother’s Day Brunch to help you celebrate the special women in your life. The meal will be served in the Lodge’s beautiful gardens\, and “MOMosas” are complimentary! \nCurious about the menu? No need to worry\, it’s 100% DELISH ~ \nThe main spread will feature succulent ham & prime rib\, an omelet station\, and a variety of seafood. As for sides – frittatas\, quiches\, salads\, and home-style potatoes will be served. Dessert will follow with a selection of delicious gourmet pastries. \nMake your reservations today\, here. 
URL:https://cambriacurrents.com/event/pines-lodge-mothers-day-brunch/
LOCATION:Cambria Pines Lodge\, 2905 Burton Dr\, Cambria\, CA\, 93428\, United States
CATEGORIES:Dining,Family,Outdoor
ATTACH;FMTTYPE=image/jpeg:https://cambriacurrents.com/wp-content/uploads/2022/04/MothersDayBrunch-01-scaled.jpg
END:VEVENT
BEGIN:VEVENT
DTSTART;TZID=America/Los_Angeles:20220501T130000
DTEND;TZID=America/Los_Angeles:20220501T160000
DTSTAMP:20260422T094752
CREATED:20220412T025139Z
LAST-MODIFIED:20220413T025439Z
UID:2498-1651410000-1651420800@cambriacurrents.com
SUMMARY:Beautify Cambria Association's Bee & Butterfly Faire
DESCRIPTION:This coming Sunday\, May 1 from 1 pm – 4 pm Beautify Cambria will host the Bee & Butterfly Faire at the Cambria Historical Museum. \nThe Faire supports pollinator population stabilization efforts in Cambria by bringing the community educational environmentalist speakers\, artisan vendors\, live music\, gardening & crafting workshops\, pollinator plant vendors\, and more! \n \nIf interested in vending to sell bee\, butterfly & pollinator related items please contact Claudia at Claudia@beautifycambria.org
URL:https://cambriacurrents.com/event/beautify-cambria-associations-bee-butterfly-faire/
LOCATION:Cambria Historical Museum\, 2252 Center St\, Cambria\, CA\, 93428\, United States
CATEGORIES:Environmental,Family,Nature,Outdoor
ATTACH;FMTTYPE=image/jpeg:https://cambriacurrents.com/wp-content/uploads/2022/04/Bee-Butterfly-Faire-01-scaled.jpg
ORGANIZER;CN="Beautify Cambria":MAILTO:info@beautifycambria.org
END:VEVENT
BEGIN:VEVENT
DTSTART;TZID=UTC:20220423T100000
DTEND;TZID=UTC:20220423T170000
DTSTAMP:20260422T094752
CREATED:20220413T033530Z
LAST-MODIFIED:20220413T033530Z
UID:2511-1650708000-1650733200@cambriacurrents.com
SUMMARY:Spring Fling Crafts & Vendor Fair
DESCRIPTION:This April 23rd from 10 am – 5 pm The Spring Fling Crafts & VZendor Fair will be taking place at Shamel Park. \nThis will be a family-friendly artisan shopping event with crafts\, food & more! \n \nFor more information please email Michelle at michellekene816@gmail.com
URL:https://cambriacurrents.com/event/spring-fling-crafts-vendor-fair/
LOCATION:Shamel Park\, 5455 Windsor Blvd\, Cambria\, CA\, 93428
CATEGORIES:Art,Family,Outdoor
ATTACH;FMTTYPE=image/jpeg:https://cambriacurrents.com/wp-content/uploads/2022/04/SpringFling-01-scaled.jpg
END:VEVENT
BEGIN:VEVENT
DTSTART;TZID=America/Los_Angeles:20220319T110000
DTEND;TZID=America/Los_Angeles:20220319T150000
DTSTAMP:20260422T094752
CREATED:20220108T045626Z
LAST-MODIFIED:20220202T201935Z
UID:2135-1647687600-1647702000@cambriacurrents.com
SUMMARY:Greenspace's Virtual Earth Day Event
DESCRIPTION:April 19th from 11 am -3 pm Greenspace Cambria\, in partnership with Soto’s True Earth Market\, will present a Virtual Earth Day Event! ??♥️ \nThis is a fun\, family-friendly event for those who love our beautiful planet and care about protecting the environment.  \nThis year’s focus topic will be Climate Change\, which has proved to be one of the greatest challenges facing our world today – An issue that needs to be addressed to ensure that our planet will be able to support life for generations to come.  \nThe event will serve as a united call for creativity\, innovation\, ambition\, and bravery that we need to meet our climate crisis and seize the enormous opportunities of a zero-carbon future.  \nIndividuals\, groups\, and organizations will have the chance to interact with each other and the local community. Greenspace hopes that this networking opportunity will motivate\, inspire and educate people about the environment.  \n\nFor more information please visit the Greenspace Cambria website ~ greenspacecambria.com
URL:https://cambriacurrents.com/event/greenspace-virtual-earth-day-event/
LOCATION:Online
CATEGORIES:Children,Environmental,Family,Nature,Online
ATTACH;FMTTYPE=image/jpeg:https://cambriacurrents.com/wp-content/uploads/2022/01/GreenSpaceEarthDay-01-scaled.jpg
ORGANIZER;CN="Greenspace Cambria":MAILTO:info@greenspacecambria.org
END:VEVENT
END:VCALENDAR