BEGIN:VCALENDAR
VERSION:2.0
PRODID:-//Cambria Currents - ECPv6.15.20//NONSGML v1.0//EN
CALSCALE:GREGORIAN
METHOD:PUBLISH
X-ORIGINAL-URL:https://cambriacurrents.com
X-WR-CALDESC:Events for Cambria Currents
REFRESH-INTERVAL;VALUE=DURATION:PT1H
X-Robots-Tag:noindex
X-PUBLISHED-TTL:PT1H
BEGIN:VTIMEZONE
TZID:America/Los_Angeles
BEGIN:DAYLIGHT
TZOFFSETFROM:-0800
TZOFFSETTO:-0700
TZNAME:PDT
DTSTART:20210314T100000
END:DAYLIGHT
BEGIN:STANDARD
TZOFFSETFROM:-0700
TZOFFSETTO:-0800
TZNAME:PST
DTSTART:20211107T090000
END:STANDARD
BEGIN:DAYLIGHT
TZOFFSETFROM:-0800
TZOFFSETTO:-0700
TZNAME:PDT
DTSTART:20220313T100000
END:DAYLIGHT
BEGIN:STANDARD
TZOFFSETFROM:-0700
TZOFFSETTO:-0800
TZNAME:PST
DTSTART:20221106T090000
END:STANDARD
BEGIN:DAYLIGHT
TZOFFSETFROM:-0800
TZOFFSETTO:-0700
TZNAME:PDT
DTSTART:20230312T100000
END:DAYLIGHT
BEGIN:STANDARD
TZOFFSETFROM:-0700
TZOFFSETTO:-0800
TZNAME:PST
DTSTART:20231105T090000
END:STANDARD
END:VTIMEZONE
BEGIN:VEVENT
DTSTART;TZID=America/Los_Angeles:20220903T093000
DTEND;TZID=America/Los_Angeles:20220903T103000
DTSTAMP:20260422T105912
CREATED:20220813T151047Z
LAST-MODIFIED:20220829T184742Z
UID:2732-1662197400-1662201000@cambriacurrents.com
SUMMARY:72nd Annual Pinedorado Parade
DESCRIPTION:After a two-year hiatus\, Pinedorado is returning to Cambria this Labor Day Weekend! From September 3 – 5 The Cambria Lions Club will present a series of community events to have fun\, and raise funds for civic projects. As part of the schedule\, the beloved Annual Pinedorado Parade will take place on September 3rd! \nThe parade will begin at 9:30 am starting at 1000 Main Street. The festive procession will make its way through downtown Cambria to celebrate the start of Pinedorado Days. After the Parade\, the Pinedorado Grounds off Main Street offers barbecue food\, kids’ games\, prizes\, face-painting\, food booths\, kiddy cars\, an Art Show\, and live music. The event will run the entire Labor Day Weekend.\nRegister to participate in the parade HERE. 
URL:https://cambriacurrents.com/event/72nd-annual-pinedorado-parade/
LOCATION:Downtown Cambria
CATEGORIES:Fundraiser,Outdoor,Parade
ATTACH;FMTTYPE=image/jpeg:https://cambriacurrents.com/wp-content/uploads/2022/08/Parade-01-scaled.jpg
ORGANIZER;CN="Cambria Lions Club":MAILTO:cambrialions@gmail.com
END:VEVENT
END:VCALENDAR